BEGIN:VCALENDAR
VERSION:2.0
PRODID:-//Bürgerschützenverein St. Hubertus Oelde 1919 e.V. - ECPv6.13.2.1//NONSGML v1.0//EN
CALSCALE:GREGORIAN
METHOD:PUBLISH
X-WR-CALNAME:Bürgerschützenverein St. Hubertus Oelde 1919 e.V.
X-ORIGINAL-URL:https://www.st-hubertus-oelde.de
X-WR-CALDESC:Veranstaltungen für Bürgerschützenverein St. Hubertus Oelde 1919 e.V.
REFRESH-INTERVAL;VALUE=DURATION:PT1H
X-Robots-Tag:noindex
X-PUBLISHED-TTL:PT1H
BEGIN:VTIMEZONE
TZID:Europe/Berlin
BEGIN:DAYLIGHT
TZOFFSETFROM:+0100
TZOFFSETTO:+0200
TZNAME:CEST
DTSTART:20250330T010000
END:DAYLIGHT
BEGIN:STANDARD
TZOFFSETFROM:+0200
TZOFFSETTO:+0100
TZNAME:CET
DTSTART:20251026T010000
END:STANDARD
END:VTIMEZONE
BEGIN:VEVENT
DTSTART;VALUE=DATE:20250830
DTEND;VALUE=DATE:20250902
DTSTAMP:20260425T135022
CREATED:20250629T110157Z
LAST-MODIFIED:20250824T163420Z
UID:3297-1756512000-1756771199@www.st-hubertus-oelde.de
SUMMARY:Schützenfest der Schützengesellschaft Oelde e.V von 1858
DESCRIPTION:Abordnung \n\nRene Zabel (Sprecher)\nPia Grünebaum\nDaniel Grünebaum\nAngela Rassenhövel\nLothar Kaiser\nMichael Hukebrink\nSabine Grünebaum\nWanja\nAndrea Frohne\nDaniel Becker
URL:https://www.st-hubertus-oelde.de/event/schuetzenfest-der-schuetzengesellschaft-oelde-e-v-von-1858/
LOCATION:Schützenplatz am Vier-Jahreszeiten-Park und Bürgerhaus
ATTACH;FMTTYPE=image/jpeg:https://www.st-hubertus-oelde.de/wp-content/uploads/2025/06/WhatsApp-Bild-2025-08-24-um-17.34.15_342cc6ca.jpg
END:VEVENT
BEGIN:VEVENT
DTSTART;TZID=Europe/Berlin:20250902T180000
DTEND;TZID=Europe/Berlin:20250902T200000
DTSTAMP:20260425T135022
CREATED:20250629T164715Z
LAST-MODIFIED:20250629T164715Z
UID:3321-1756836000-1756843200@www.st-hubertus-oelde.de
SUMMARY:Beginn des Trainingsschießen vom Kleinkaliber nach der Sommerpause
DESCRIPTION:
URL:https://www.st-hubertus-oelde.de/event/beginn-des-trainingsschiessen-vom-kleinkaliber-nach-der-sommerpause/
LOCATION:Schießstand Eisenbahner Ahmenhorst
END:VEVENT
BEGIN:VEVENT
DTSTART;TZID=Europe/Berlin:20250905T183000
DTEND;TZID=Europe/Berlin:20250905T210000
DTSTAMP:20260425T135022
CREATED:20250629T091836Z
LAST-MODIFIED:20250629T091836Z
UID:3261-1757097000-1757106000@www.st-hubertus-oelde.de
SUMMARY:Schützenkette
DESCRIPTION:
URL:https://www.st-hubertus-oelde.de/event/schuetzenkette/
LOCATION:Drostenhof\, Goldbrink\, Oelde\, NRW\, 59302\, Deutschland
END:VEVENT
BEGIN:VEVENT
DTSTART;VALUE=DATE:20250912
DTEND;VALUE=DATE:20250915
DTSTAMP:20260425T135022
CREATED:20250629T110340Z
LAST-MODIFIED:20250824T151708Z
UID:3299-1757635200-1757894399@www.st-hubertus-oelde.de
SUMMARY:Schützenfest des Bürgerschützenverein St. Hubertus Oelde 1919 e.V.
DESCRIPTION:
URL:https://www.st-hubertus-oelde.de/event/schuetzenfest-des-buergerschuetzenverein-st-hubertus-oelde-1919-e-v/
LOCATION:Drostenhof und Bürgerhaus
ATTACH;FMTTYPE=image/png:https://www.st-hubertus-oelde.de/wp-content/uploads/2025/06/Screenshot-2025-08-19-194550.png
END:VEVENT
BEGIN:VEVENT
DTSTART;TZID=Europe/Berlin:20250928T110000
DTEND;TZID=Europe/Berlin:20250928T170000
DTSTAMP:20260425T135022
CREATED:20250917T185225Z
LAST-MODIFIED:20250917T185412Z
UID:3376-1759057200-1759078800@www.st-hubertus-oelde.de
SUMMARY:Kartoffelfest
DESCRIPTION:08:00 bis 11:00 Uhr (Aufbau 2. Personen) \nAndre Kaldeway\nFrank Ossenbrink \n  \n11:00 bis 14:00 Uhr (5. Personen) \nChristopher Niehoff\nDaniel Becker\nLothar Kaiser\nNiklas Laub\nNiklas Altmiks \n14:00 bis 16:30 Uhr (5. Personen) \nFrank Ossenbrink\nRobert Frohne\nAndreas Brinkschneider\nAndre Kaldeway\n(Malte Frohne) \n16:30 bis Ende Uhr (5. Personen) \nChristopher Niehoff\nDaniel Grünebaum\nDaniel Becker\nNiklas Laub\nRene Zabel
URL:https://www.st-hubertus-oelde.de/event/kartoffelfest-4/
LOCATION:Drostenhof\, Goldbrink\, Oelde\, NRW\, 59302\, Deutschland
END:VEVENT
END:VCALENDAR