BEGIN:VCALENDAR
VERSION:2.0
PRODID:-//Bürgerschützenverein St. Hubertus Oelde 1919 e.V. - ECPv6.13.2.1//NONSGML v1.0//EN
CALSCALE:GREGORIAN
METHOD:PUBLISH
X-WR-CALNAME:Bürgerschützenverein St. Hubertus Oelde 1919 e.V.
X-ORIGINAL-URL:https://www.st-hubertus-oelde.de
X-WR-CALDESC:Veranstaltungen für Bürgerschützenverein St. Hubertus Oelde 1919 e.V.
REFRESH-INTERVAL;VALUE=DURATION:PT1H
X-Robots-Tag:noindex
X-PUBLISHED-TTL:PT1H
BEGIN:VTIMEZONE
TZID:Europe/Berlin
BEGIN:DAYLIGHT
TZOFFSETFROM:+0100
TZOFFSETTO:+0200
TZNAME:CEST
DTSTART:20240331T010000
END:DAYLIGHT
BEGIN:STANDARD
TZOFFSETFROM:+0200
TZOFFSETTO:+0100
TZNAME:CET
DTSTART:20241027T010000
END:STANDARD
END:VTIMEZONE
BEGIN:VEVENT
DTSTART;TZID=Europe/Berlin:20241109T180000
DTEND;TZID=Europe/Berlin:20241109T180000
DTSTAMP:20260419T192434
CREATED:20241010T110705Z
LAST-MODIFIED:20241010T110705Z
UID:3168-1731175200-1731175200@www.st-hubertus-oelde.de
SUMMARY:Hubertusfest
DESCRIPTION:
URL:https://www.st-hubertus-oelde.de/event/hubertusfest-4/
LOCATION:Drostenhof\, Goldbrink\, Oelde\, NRW\, 59302\, Deutschland
END:VEVENT
BEGIN:VEVENT
DTSTART;TZID=Europe/Berlin:20241117T101500
DTEND;TZID=Europe/Berlin:20241117T120000
DTSTAMP:20260419T192434
CREATED:20241010T110905Z
LAST-MODIFIED:20241010T110905Z
UID:3170-1731838500-1731844800@www.st-hubertus-oelde.de
SUMMARY:Volkstrauertag
DESCRIPTION:In kompletter Uniform mit Handschuhe und Hut
URL:https://www.st-hubertus-oelde.de/event/volkstrauertag-2/
LOCATION:Treffpunkt am Badeweg
END:VEVENT
BEGIN:VEVENT
DTSTART;TZID=Europe/Berlin:20241129T160000
DTEND;TZID=Europe/Berlin:20241129T220000
DTSTAMP:20260419T192434
CREATED:20241010T111025Z
LAST-MODIFIED:20241010T111025Z
UID:3172-1732896000-1732917600@www.st-hubertus-oelde.de
SUMMARY:Advent am Drostenhof
DESCRIPTION:
URL:https://www.st-hubertus-oelde.de/event/advent-am-drostenhof-3/
LOCATION:Drostenhof\, Goldbrink\, Oelde\, NRW\, 59302\, Deutschland
END:VEVENT
BEGIN:VEVENT
DTSTART;TZID=Europe/Berlin:20241130T150000
DTEND;TZID=Europe/Berlin:20241130T220000
DTSTAMP:20260419T192434
CREATED:20241010T111106Z
LAST-MODIFIED:20241010T111106Z
UID:3174-1732978800-1733004000@www.st-hubertus-oelde.de
SUMMARY:Advent am Drostenhof
DESCRIPTION:
URL:https://www.st-hubertus-oelde.de/event/advent-am-drostenhof-4/
LOCATION:Drostenhof\, Goldbrink\, Oelde\, NRW\, 59302\, Deutschland
END:VEVENT
END:VCALENDAR