BEGIN:VCALENDAR
VERSION:2.0
PRODID:-//Bürgerschützenverein St. Hubertus Oelde 1919 e.V. - ECPv6.13.2.1//NONSGML v1.0//EN
CALSCALE:GREGORIAN
METHOD:PUBLISH
X-ORIGINAL-URL:https://www.st-hubertus-oelde.de
X-WR-CALDESC:Veranstaltungen für Bürgerschützenverein St. Hubertus Oelde 1919 e.V.
REFRESH-INTERVAL;VALUE=DURATION:PT1H
X-Robots-Tag:noindex
X-PUBLISHED-TTL:PT1H
BEGIN:VTIMEZONE
TZID:Europe/Berlin
BEGIN:DAYLIGHT
TZOFFSETFROM:+0100
TZOFFSETTO:+0200
TZNAME:CEST
DTSTART:20240331T010000
END:DAYLIGHT
BEGIN:STANDARD
TZOFFSETFROM:+0200
TZOFFSETTO:+0100
TZNAME:CET
DTSTART:20241027T010000
END:STANDARD
END:VTIMEZONE
BEGIN:VEVENT
DTSTART;VALUE=DATE:20240906
DTEND;VALUE=DATE:20240909
DTSTAMP:20260419T161639
CREATED:20240115T172615Z
LAST-MODIFIED:20240115T172615Z
UID:3096-1725580800-1725839999@www.st-hubertus-oelde.de
SUMMARY:Schützenfest Bürgerschützenverein St. Hubertus 1919 e.V.
DESCRIPTION:
URL:https://www.st-hubertus-oelde.de/event/schuetzenfest-buergerschuetzenverein-st-hubertus-1919-e-v/
LOCATION:Drostenhof und Bürgerhaus
END:VEVENT
BEGIN:VEVENT
DTSTART;TZID=Europe/Berlin:20240929T100000
DTEND;TZID=Europe/Berlin:20240929T190000
DTSTAMP:20260419T161639
CREATED:20240813T153825Z
LAST-MODIFIED:20240813T153825Z
UID:3153-1727604000-1727636400@www.st-hubertus-oelde.de
SUMMARY:Kartoffelfest
DESCRIPTION:
URL:https://www.st-hubertus-oelde.de/event/kartoffelfest-3/
LOCATION:Drostenhof\, Goldbrink\, Oelde\, NRW\, 59302\, Deutschland
END:VEVENT
END:VCALENDAR